BEGIN:VCALENDAR
VERSION:2.0
PRODID:-//scoutingheartotexas.org - ECPv6.15.20//NONSGML v1.0//EN
CALSCALE:GREGORIAN
METHOD:PUBLISH
X-WR-CALNAME:scoutingheartotexas.org
X-ORIGINAL-URL:https://scoutingheartotexas.org
X-WR-CALDESC:Events for scoutingheartotexas.org
REFRESH-INTERVAL;VALUE=DURATION:PT1H
X-Robots-Tag:noindex
X-PUBLISHED-TTL:PT1H
BEGIN:VTIMEZONE
TZID:America/Chicago
BEGIN:DAYLIGHT
TZOFFSETFROM:-0600
TZOFFSETTO:-0500
TZNAME:CDT
DTSTART:20240310T080000
END:DAYLIGHT
BEGIN:STANDARD
TZOFFSETFROM:-0500
TZOFFSETTO:-0600
TZNAME:CST
DTSTART:20241103T070000
END:STANDARD
BEGIN:DAYLIGHT
TZOFFSETFROM:-0600
TZOFFSETTO:-0500
TZNAME:CDT
DTSTART:20250309T080000
END:DAYLIGHT
BEGIN:STANDARD
TZOFFSETFROM:-0500
TZOFFSETTO:-0600
TZNAME:CST
DTSTART:20251102T070000
END:STANDARD
BEGIN:DAYLIGHT
TZOFFSETFROM:-0600
TZOFFSETTO:-0500
TZNAME:CDT
DTSTART:20260308T080000
END:DAYLIGHT
BEGIN:STANDARD
TZOFFSETFROM:-0500
TZOFFSETTO:-0600
TZNAME:CST
DTSTART:20261101T070000
END:STANDARD
END:VTIMEZONE
BEGIN:VEVENT
DTSTART;TZID=America/Chicago:20250921T180000
DTEND;TZID=America/Chicago:20250926T080000
DTSTAMP:20260424T105800
CREATED:20250809T194322Z
LAST-MODIFIED:20250809T202250Z
UID:3163-1758477600-1758873600@scoutingheartotexas.org
SUMMARY:Wood Badge 2025 - Philmont Scout Ranch
DESCRIPTION:Wood Badge Courses 2025\nREGISTER HERE! \nWB 25-1 at Philmont Scout Ranch September 21-26\, 2025 \n*Participants must check-in at Philmont Scout Ranch by 6 PM on September 21st* \nEvery participant and staff member must complete a Scouting America Annual Health and Medical Record – parts A\, B\, and C and meet height\, weight\, and blood pressure requirements upon arrival and be approved for participation by the on-site Philmont medical staff. \nPlease Note: Staff and Participants who do not meet these requirements upon arrival should contact the Course Director\, Chris Gonzalez. \n\nPurpose of Wood Badge \nThe purpose of Wood Badge is to develop skilled leaders who can strengthen Scouting units in achieving the mission of Scouting America. \nWhen we accomplish the mission of Scouting\, we do it in the units. Therefore\, the short form of the purpose is\, the purpose of Wood Badge is to strengthen units. \nEvery staff member and participant must complete a Scouting America Annual Health and Medical Record – parts A\, B\, and C. \nAlthough the course is different today\, what Baden-Powell said in 1919 still applies: \n“One of the purposes of Wood Badge training is to get Scouters to think about the practice of Scouting\, to meet together\, to exchange experiences\, and to live together in the spirit of the Scout Oath.”
URL:https://scoutingheartotexas.org/event/wood-badge-2025/
LOCATION:Philmont Scout Ranch\, 17 Deer Run Rd\, Cimarron\, New Mexico\, 87714
CATEGORIES:Training
END:VEVENT
END:VCALENDAR