BEGIN:VCALENDAR
VERSION:2.0
PRODID:-//scoutingheartotexas.org - ECPv6.15.14//NONSGML v1.0//EN
CALSCALE:GREGORIAN
METHOD:PUBLISH
X-WR-CALNAME:scoutingheartotexas.org
X-ORIGINAL-URL:https://scoutingheartotexas.org
X-WR-CALDESC:Events for scoutingheartotexas.org
REFRESH-INTERVAL;VALUE=DURATION:PT1H
X-Robots-Tag:noindex
X-PUBLISHED-TTL:PT1H
BEGIN:VTIMEZONE
TZID:America/Chicago
BEGIN:DAYLIGHT
TZOFFSETFROM:-0600
TZOFFSETTO:-0500
TZNAME:CDT
DTSTART:20240310T080000
END:DAYLIGHT
BEGIN:STANDARD
TZOFFSETFROM:-0500
TZOFFSETTO:-0600
TZNAME:CST
DTSTART:20241103T070000
END:STANDARD
BEGIN:DAYLIGHT
TZOFFSETFROM:-0600
TZOFFSETTO:-0500
TZNAME:CDT
DTSTART:20250309T080000
END:DAYLIGHT
BEGIN:STANDARD
TZOFFSETFROM:-0500
TZOFFSETTO:-0600
TZNAME:CST
DTSTART:20251102T070000
END:STANDARD
BEGIN:DAYLIGHT
TZOFFSETFROM:-0600
TZOFFSETTO:-0500
TZNAME:CDT
DTSTART:20260308T080000
END:DAYLIGHT
BEGIN:STANDARD
TZOFFSETFROM:-0500
TZOFFSETTO:-0600
TZNAME:CST
DTSTART:20261101T070000
END:STANDARD
END:VTIMEZONE
BEGIN:VEVENT
DTSTART;TZID=America/Chicago:20251108T080000
DTEND;TZID=America/Chicago:20251109T160000
DTSTAMP:20260422T094852
CREATED:20251002T000303Z
LAST-MODIFIED:20251002T000303Z
UID:3319-1762588800-1762704000@scoutingheartotexas.org
SUMMARY:IOLS/BALOO-Southern Service Area
DESCRIPTION:REGISTER HERE! \nUnlock the Leader Within: Join IOLS and BALOO! \nIf you are a Scoutmaster or Assistant Scoutmaster\, IOLS is a required training! Sign up now! \nIf you are a Cubmaster\, Assistant Cubmaster\, Den Leader\, or other Cub Scout leader\, you must have at least 1 BALOO trained adult at any overnight activity! Help your pack by becoming BALOO trained! Sign up now! \nCalling all adventurous souls and dedicated leaders! Are you ready to take your Scouting journey to new heights? Look no further than IOLS (Introduction to Outdoor Leader Skills) and BALOO (Basic Adult Leader Outdoor Orientation). Prepare to embark on a transformative learning experience that will empower you as a Scout leader like never before! \nWhy Take the Course? \nGain Outdoor Expertise: Expand your knowledge of outdoor skills\, from setting up camp to navigating the wilderness. Be equipped with the confidence to lead your Scouts on unforgettable adventures. \nConnect with Nature: Rediscover the wonders of the great outdoors and learn how to instill a deep appreciation for nature in your Scouts. Watch as their love for exploration and conservation blossoms under your guidance. \nFoster Team Building: Learn the art of effective teamwork and collaboration. Discover how to create a cohesive unit that supports and uplifts one another\, both in the wilderness and beyond. \nEnhance Safety Measures: Master essential safety protocols and emergency preparedness techniques. Ensure that your Scouts are always in good hands and that their well-being is your top priority. \nIgnite Scouts’ Passion: Unleash your creativity and learn how to spark enthusiasm in your Scouts. Inspire their curiosity\, ignite their passion for learning\, and empower them to become confident leaders themselves. \nWhat You Will Learn: \nOutdoor Skills Mastery: Develop expertise in crucial outdoor skills\, including knot tying\, fire building\, first aid\, map reading\, and more. Become the go-to person for all things related to outdoor adventures. \nEffective Leadership: Discover the principles of effective leadership and learn how to motivate and guide your Scouts. Cultivate an environment where each individual’s unique talents are recognized and celebrated. \nRisk Management: Understand how to assess and manage risks associated with outdoor activities. Learn to create a safe and secure environment for Scouts\, ensuring their well-being while embracing the thrill of adventure. \nLeave No Trace: Embrace the Leave No Trace philosophy and inspire Scouts to protect and preserve the natural environment. Foster a deep sense of stewardship that will guide them throughout their lives. \nProgram Planning: Master the art of program planning\, enabling you to create engaging and impactful activities for your Scouts. From troop meetings to extended adventures\, you’ll be equipped to design experiences that promote growth and character development.
URL:https://scoutingheartotexas.org/event/iols-baloo-southern-service-area/
LOCATION:Camp Tahuaya\, 2603 Tahuaya Dr\, Belton\, TX\, 76513
CATEGORIES:Cub Scouts,Scouts BSA,Training
END:VEVENT
END:VCALENDAR