BEGIN:VCALENDAR
VERSION:2.0
PRODID:-//scoutingheartotexas.org - ECPv6.15.14//NONSGML v1.0//EN
CALSCALE:GREGORIAN
METHOD:PUBLISH
X-ORIGINAL-URL:https://scoutingheartotexas.org
X-WR-CALDESC:Events for scoutingheartotexas.org
REFRESH-INTERVAL;VALUE=DURATION:PT1H
X-Robots-Tag:noindex
X-PUBLISHED-TTL:PT1H
BEGIN:VTIMEZONE
TZID:America/Chicago
BEGIN:DAYLIGHT
TZOFFSETFROM:-0600
TZOFFSETTO:-0500
TZNAME:CDT
DTSTART:20240310T080000
END:DAYLIGHT
BEGIN:STANDARD
TZOFFSETFROM:-0500
TZOFFSETTO:-0600
TZNAME:CST
DTSTART:20241103T070000
END:STANDARD
BEGIN:DAYLIGHT
TZOFFSETFROM:-0600
TZOFFSETTO:-0500
TZNAME:CDT
DTSTART:20250309T080000
END:DAYLIGHT
BEGIN:STANDARD
TZOFFSETFROM:-0500
TZOFFSETTO:-0600
TZNAME:CST
DTSTART:20251102T070000
END:STANDARD
BEGIN:DAYLIGHT
TZOFFSETFROM:-0600
TZOFFSETTO:-0500
TZNAME:CDT
DTSTART:20260308T080000
END:DAYLIGHT
BEGIN:STANDARD
TZOFFSETFROM:-0500
TZOFFSETTO:-0600
TZNAME:CST
DTSTART:20261101T070000
END:STANDARD
END:VTIMEZONE
BEGIN:VEVENT
DTSTART;TZID=America/Chicago:20251113T190000
DTEND;TZID=America/Chicago:20251113T200000
DTSTAMP:20260422T080509
CREATED:20250809T193101Z
LAST-MODIFIED:20250809T193101Z
UID:3155-1763060400-1763064000@scoutingheartotexas.org
SUMMARY:Roundtable Meeting
DESCRIPTION:Join us on the 2nd Thursday of each month (except June and July) for our monthly Leaders Roundtable. This is a space to share information and support for leaders\, volunteers\, committee members\, and parents with the BSA-Longhorn Council-Heart O’ Texas District. All BSA unit reps are welcome\, especially Cubmasters\, Den Leaders Committee Chairs\, Scoutmasters\, and Assistant Scoutmasters. Discussing programming\, hot topics\, activities\, and scouting needs for networking\, fun\, and fellowship.
URL:https://scoutingheartotexas.org/event/roundtable-meeting/
LOCATION:Waco Scout Office\, 300 Lake Air Dr.\, Waco\, TX\, 76710
CATEGORIES:Meetings
END:VEVENT
END:VCALENDAR