BEGIN:VCALENDAR
VERSION:2.0
PRODID:-//scoutingheartotexas.org - ECPv6.15.14//NONSGML v1.0//EN
CALSCALE:GREGORIAN
METHOD:PUBLISH
X-ORIGINAL-URL:https://scoutingheartotexas.org
X-WR-CALDESC:Events for scoutingheartotexas.org
REFRESH-INTERVAL;VALUE=DURATION:PT1H
X-Robots-Tag:noindex
X-PUBLISHED-TTL:PT1H
BEGIN:VTIMEZONE
TZID:America/Chicago
BEGIN:DAYLIGHT
TZOFFSETFROM:-0600
TZOFFSETTO:-0500
TZNAME:CDT
DTSTART:20240310T080000
END:DAYLIGHT
BEGIN:STANDARD
TZOFFSETFROM:-0500
TZOFFSETTO:-0600
TZNAME:CST
DTSTART:20241103T070000
END:STANDARD
BEGIN:DAYLIGHT
TZOFFSETFROM:-0600
TZOFFSETTO:-0500
TZNAME:CDT
DTSTART:20250309T080000
END:DAYLIGHT
BEGIN:STANDARD
TZOFFSETFROM:-0500
TZOFFSETTO:-0600
TZNAME:CST
DTSTART:20251102T070000
END:STANDARD
BEGIN:DAYLIGHT
TZOFFSETFROM:-0600
TZOFFSETTO:-0500
TZNAME:CDT
DTSTART:20260308T080000
END:DAYLIGHT
BEGIN:STANDARD
TZOFFSETFROM:-0500
TZOFFSETTO:-0600
TZNAME:CST
DTSTART:20261101T070000
END:STANDARD
END:VTIMEZONE
BEGIN:VEVENT
DTSTART;VALUE=DATE:20251121
DTEND;VALUE=DATE:20251122
DTSTAMP:20260422T094327
CREATED:20250921T172103Z
LAST-MODIFIED:20250921T172409Z
UID:3309-1763683200-1763769599@scoutingheartotexas.org
SUMMARY:Food For Families 2025\, Scouting America Community Event
DESCRIPTION:November 21\, 2025\nFood For Families is an annual event sponsored by Scouting America\, H.E.B. Grocery Company\, and KWTX News 10.\n \nScouts with their units sign up to volunteer on the food collection day at KWTX. \n2025 marks the 36th year of Food For Families in Central Texas. Food For Families has grown to become the largest one-day food drive in Texas\, encompassing 9 counties with 19 televised sites in Central Texas. In its history\, Food For Families has gathered more than 40\,212\,964 pounds of food. \nClick HERE to sign up for time shifts!
URL:https://scoutingheartotexas.org/event/food-for-families-2025-scouting-america-community-event/
CATEGORIES:Special Events
ORGANIZER;CN="Donovan McNeil":MAILTO:donovan_mcneil@imap.cc
END:VEVENT
END:VCALENDAR