BEGIN:VCALENDAR
VERSION:2.0
PRODID:-//scoutingheartotexas.org - ECPv6.15.14//NONSGML v1.0//EN
CALSCALE:GREGORIAN
METHOD:PUBLISH
X-ORIGINAL-URL:https://scoutingheartotexas.org
X-WR-CALDESC:Events for scoutingheartotexas.org
REFRESH-INTERVAL;VALUE=DURATION:PT1H
X-Robots-Tag:noindex
X-PUBLISHED-TTL:PT1H
BEGIN:VTIMEZONE
TZID:America/Chicago
BEGIN:DAYLIGHT
TZOFFSETFROM:-0600
TZOFFSETTO:-0500
TZNAME:CDT
DTSTART:20240310T080000
END:DAYLIGHT
BEGIN:STANDARD
TZOFFSETFROM:-0500
TZOFFSETTO:-0600
TZNAME:CST
DTSTART:20241103T070000
END:STANDARD
BEGIN:DAYLIGHT
TZOFFSETFROM:-0600
TZOFFSETTO:-0500
TZNAME:CDT
DTSTART:20250309T080000
END:DAYLIGHT
BEGIN:STANDARD
TZOFFSETFROM:-0500
TZOFFSETTO:-0600
TZNAME:CST
DTSTART:20251102T070000
END:STANDARD
BEGIN:DAYLIGHT
TZOFFSETFROM:-0600
TZOFFSETTO:-0500
TZNAME:CDT
DTSTART:20260308T080000
END:DAYLIGHT
BEGIN:STANDARD
TZOFFSETFROM:-0500
TZOFFSETTO:-0600
TZNAME:CST
DTSTART:20261101T070000
END:STANDARD
END:VTIMEZONE
BEGIN:VEVENT
DTSTART;TZID=America/Chicago:20251122T083000
DTEND;TZID=America/Chicago:20251124T140000
DTSTAMP:20260423T061624
CREATED:20250809T203417Z
LAST-MODIFIED:20250809T204437Z
UID:3223-1763800200-1763992800@scoutingheartotexas.org
SUMMARY:Eagle Retreat
DESCRIPTION:Soar to New Heights: Eagle Retreat 2025\nWhere Legacy Meets Leadership\nREGISTER HERE!\nRegistration Closes:\n11-14-2025 11:59 PM \nJoin us for a one-of-a-kind gathering of Eagle Scout alumni and aspiring Eagles! The Eagle Retreat 2025 is your launchpad for leadership\, connection\, and adventure. Mornings are packed with dynamic classes and powerful networking opportunities designed to inspire and equip the next generation of leaders. Afternoons bring the fun with hands-on programs (climbing\, range time\, etc)\, outdoor challenges\, and unforgettable Scouting experiences. \nClass Topic Examples: Eagle Project Ideas\, Project Planning and Execution\, Paperwork 101\, Planning an Awesome Eagle Court of Honor\, Post-Eagle Experience\, Scholarships\, Alpha Phi Omega\, and more! \nWhether you’re reconnecting with fellow Eagles or charting your course to the summit\, this event is your chance to celebrate the journey\, share your story\, and shape the future of Scouting. \nDate: Arrive Saturday morning\, 11/22/2025. Depart on Monday afternoon\, 11/24/2025 \nLocation: Sid Richardson Scout Ranch\, Camp 9 \nWho Should Attend: Star and Life Scouts and their parents/leaders\, young Eagles looking for Palm opportunities\, Eagle Alumni \n\nYouth: $100\nAdult: $100\n* Cost: (Includes site\, food\, swag)\n*Pay to upgrade to cabins or dorms by emailing jonna.martin@scouting.org \n\nAngel Unger\nVolunteer Event Chair\nangel@lippeconstruction.com\nJonna Martin\nProgram Director\njonna.martin@scouting.org\n817-231-8515\nCouncil Billing Information\nLonghorn Council Main\nPO Box 54190\nHurst\, Texas 76054\nPhone: 817-231-8500
URL:https://scoutingheartotexas.org/event/eagle-retreat/
LOCATION:Sid Richardson Scout Ranch\, Boy Scout Rd\, Runaway Bay\, TX\, 76425
CATEGORIES:Scouts BSA,Special Events
END:VEVENT
END:VCALENDAR