BEGIN:VCALENDAR
VERSION:2.0
PRODID:-//scoutingheartotexas.org - ECPv6.15.14//NONSGML v1.0//EN
CALSCALE:GREGORIAN
METHOD:PUBLISH
X-ORIGINAL-URL:https://scoutingheartotexas.org
X-WR-CALDESC:Events for scoutingheartotexas.org
REFRESH-INTERVAL;VALUE=DURATION:PT1H
X-Robots-Tag:noindex
X-PUBLISHED-TTL:PT1H
BEGIN:VTIMEZONE
TZID:America/Chicago
BEGIN:DAYLIGHT
TZOFFSETFROM:-0600
TZOFFSETTO:-0500
TZNAME:CDT
DTSTART:20250309T080000
END:DAYLIGHT
BEGIN:STANDARD
TZOFFSETFROM:-0500
TZOFFSETTO:-0600
TZNAME:CST
DTSTART:20251102T070000
END:STANDARD
BEGIN:DAYLIGHT
TZOFFSETFROM:-0600
TZOFFSETTO:-0500
TZNAME:CDT
DTSTART:20260308T080000
END:DAYLIGHT
BEGIN:STANDARD
TZOFFSETFROM:-0500
TZOFFSETTO:-0600
TZNAME:CST
DTSTART:20261101T070000
END:STANDARD
BEGIN:DAYLIGHT
TZOFFSETFROM:-0600
TZOFFSETTO:-0500
TZNAME:CDT
DTSTART:20270314T080000
END:DAYLIGHT
BEGIN:STANDARD
TZOFFSETFROM:-0500
TZOFFSETTO:-0600
TZNAME:CST
DTSTART:20271107T070000
END:STANDARD
END:VTIMEZONE
BEGIN:VEVENT
DTSTART;TZID=America/Chicago:20260115T190000
DTEND;TZID=America/Chicago:20260115T200000
DTSTAMP:20260422T063845
CREATED:20251108T212651Z
LAST-MODIFIED:20260106T125730Z
UID:3327-1768503600-1768507200@scoutingheartotexas.org
SUMMARY:In-Person Roundtable
DESCRIPTION:January Topic: Unit Calendar Building & Scouting America – America250 Partnership \nJoin us on the 2nd Thursday every other month (except January\, June and July) for our monthly Leaders Roundtable. On alternate months\, an informational video is sent out. \nIn-Person Roundtable is a space to share information and support for leaders\, volunteers\, committee members\, and parents with the BSA-Longhorn Council-Heart O’ Texas District. All BSA unit reps are welcome\, especially Cubmasters\, Den Leaders Committee Chairs\, Scoutmasters\, and Assistant Scoutmasters. Discussing programming\, hot topics\, activities\, and scouting needs for networking\, fun\, and fellowship. \n 
URL:https://scoutingheartotexas.org/event/in-person-roundtable/
END:VEVENT
END:VCALENDAR