BEGIN:VCALENDAR
VERSION:2.0
PRODID:-//scoutingheartotexas.org - ECPv6.15.14//NONSGML v1.0//EN
CALSCALE:GREGORIAN
METHOD:PUBLISH
X-WR-CALNAME:scoutingheartotexas.org
X-ORIGINAL-URL:https://scoutingheartotexas.org
X-WR-CALDESC:Events for scoutingheartotexas.org
REFRESH-INTERVAL;VALUE=DURATION:PT1H
X-Robots-Tag:noindex
X-PUBLISHED-TTL:PT1H
BEGIN:VTIMEZONE
TZID:America/Chicago
BEGIN:DAYLIGHT
TZOFFSETFROM:-0600
TZOFFSETTO:-0500
TZNAME:CDT
DTSTART:20250309T080000
END:DAYLIGHT
BEGIN:STANDARD
TZOFFSETFROM:-0500
TZOFFSETTO:-0600
TZNAME:CST
DTSTART:20251102T070000
END:STANDARD
BEGIN:DAYLIGHT
TZOFFSETFROM:-0600
TZOFFSETTO:-0500
TZNAME:CDT
DTSTART:20260308T080000
END:DAYLIGHT
BEGIN:STANDARD
TZOFFSETFROM:-0500
TZOFFSETTO:-0600
TZNAME:CST
DTSTART:20261101T070000
END:STANDARD
BEGIN:DAYLIGHT
TZOFFSETFROM:-0600
TZOFFSETTO:-0500
TZNAME:CDT
DTSTART:20270314T080000
END:DAYLIGHT
BEGIN:STANDARD
TZOFFSETFROM:-0500
TZOFFSETTO:-0600
TZNAME:CST
DTSTART:20271107T070000
END:STANDARD
END:VTIMEZONE
BEGIN:VEVENT
DTSTART;VALUE=DATE:20260314
DTEND;VALUE=DATE:20260316
DTSTAMP:20260422T071229
CREATED:20260313T035221Z
LAST-MODIFIED:20260313T035221Z
UID:3476-1773446400-1773619199@scoutingheartotexas.org
SUMMARY:Introduction to Leadership Skills for Troops (ILST) Training & PLC Training
DESCRIPTION:When: March 14-15\, 2026 \nWhere: Camp Tahuaya (2603 Tahuaya Dr\, Belton\, TX 76513) \nWhy: To train new Scoutmasters\, Assistant Scoutmasters\, SPLs\, ASPLs and Patrol Leaders in how to conduct ILST and PLCs with their Troops. \nCost will be $20 and there will be training materials and food for the weekend.  Documents used during the training will be resources for you to take back to your troops to use for planning at the troop level.
URL:https://scoutingheartotexas.org/event/introduction-to-leadership-skills-for-troops-ilst-training-plc-training/
LOCATION:Camp Tahuaya\, 2603 Tahuaya Dr\, Belton\, TX\, 76513
CATEGORIES:Scouts BSA,Training
END:VEVENT
END:VCALENDAR