BEGIN:VCALENDAR
VERSION:2.0
PRODID:-//scoutingheartotexas.org - ECPv6.15.14//NONSGML v1.0//EN
CALSCALE:GREGORIAN
METHOD:PUBLISH
X-WR-CALNAME:scoutingheartotexas.org
X-ORIGINAL-URL:https://scoutingheartotexas.org
X-WR-CALDESC:Events for scoutingheartotexas.org
REFRESH-INTERVAL;VALUE=DURATION:PT1H
X-Robots-Tag:noindex
X-PUBLISHED-TTL:PT1H
BEGIN:VTIMEZONE
TZID:America/Chicago
BEGIN:DAYLIGHT
TZOFFSETFROM:-0600
TZOFFSETTO:-0500
TZNAME:CDT
DTSTART:20240310T080000
END:DAYLIGHT
BEGIN:STANDARD
TZOFFSETFROM:-0500
TZOFFSETTO:-0600
TZNAME:CST
DTSTART:20241103T070000
END:STANDARD
BEGIN:DAYLIGHT
TZOFFSETFROM:-0600
TZOFFSETTO:-0500
TZNAME:CDT
DTSTART:20250309T080000
END:DAYLIGHT
BEGIN:STANDARD
TZOFFSETFROM:-0500
TZOFFSETTO:-0600
TZNAME:CST
DTSTART:20251102T070000
END:STANDARD
BEGIN:DAYLIGHT
TZOFFSETFROM:-0600
TZOFFSETTO:-0500
TZNAME:CDT
DTSTART:20260308T080000
END:DAYLIGHT
BEGIN:STANDARD
TZOFFSETFROM:-0500
TZOFFSETTO:-0600
TZNAME:CST
DTSTART:20261101T070000
END:STANDARD
END:VTIMEZONE
BEGIN:VEVENT
DTSTART;TZID=America/Chicago:20251025T070000
DTEND;TZID=America/Chicago:20251026T160000
DTSTAMP:20260423T054627
CREATED:20250809T195453Z
LAST-MODIFIED:20250809T202253Z
UID:3181-1761375600-1761494400@scoutingheartotexas.org
SUMMARY:Wood Badge 2025 - Sid Richardson Weekend 2
DESCRIPTION:Wood Badge Courses 2025\nREGISTER HERE! \nWB 25-2 at Sid Richardson Scout Ranch \nWeekend 1: October 10-12\, 2025 \nWeekend 2: October 24-26\, 2025 \nPurpose of Wood Badge \nThe purpose of Wood Badge is to develop skilled leaders who can strengthen Scouting units in achieving the mission of Scouting America. \nWhen we accomplish the mission of Scouting\, we do it in the units. Therefore\, the short form of the purpose is\, the purpose of Wood Badge is to strengthen units. \nEvery staff member and participant must complete a Scouting America Annual Health and Medical Record – parts A\, B\, and C. \nAlthough the course is different today\, what Baden-Powell said in 1919 still applies: \n“One of the purposes of Wood Badge training is to get Scouters to think about the practice of Scouting\, to meet together\, to exchange experiences\, and to live together in the spirit of the Scout Oath.” \n  \nRegistration link below is the same from weekend 1.
URL:https://scoutingheartotexas.org/event/wood-badge-2025-sid-richardson-weekend-2/
LOCATION:Sid Richardson Scout Ranch\, Boy Scout Rd\, Runaway Bay\, TX\, 76425
CATEGORIES:Training
END:VEVENT
BEGIN:VEVENT
DTSTART;TZID=America/Chicago:20251017T170000
DTEND;TZID=America/Chicago:20251019T120000
DTSTAMP:20260423T054627
CREATED:20250809T200954Z
LAST-MODIFIED:20250809T204028Z
UID:3194-1760720400-1760875200@scoutingheartotexas.org
SUMMARY:Tri District Fall Camporee
DESCRIPTION:REGISTER HERE! \nGet ready to blast off into a weekend of interstellar excitement at our Fall Camporee: Build Your Own Space Adventure! Scouts will have the chance to choose their own mission path with a variety of space-themed activities designed to inspire\, challenge\, and entertain. \nWhile none of the activities are required\, adventurous Scouts can participate in: \nRocket Launches – launch your rocket into the skies! \nStar Gazing – Experience the wonders of the night sky and guided constellation tours. \nSpace Talks – Hear from experts and space enthusiasts about the mysteries of the universe and the future of space exploration. \nAnd More – From hands-on challenges to galactic games\, there’s something for every explorer! \nWhether you’re aiming for the stars or just want to enjoy camp under a different sky\, this Camporee offers a unique experience where every Scout can chart their own course. \nPack your gear and your curiosity — your mission awaits!\nAll units are welcome to attend. More details\, including schedule and registration info\, will be sent soon.
URL:https://scoutingheartotexas.org/event/tri-district-fall-camporee/
LOCATION:The Master’s Workshop Camp\, 179 Church Camp Ln\, Robinson\, TX\, 76706
CATEGORIES:Scouts BSA
END:VEVENT
BEGIN:VEVENT
DTSTART;TZID=America/Chicago:20251011T100000
DTEND;TZID=America/Chicago:20251012T150000
DTSTAMP:20260423T054627
CREATED:20250809T200528Z
LAST-MODIFIED:20250809T204004Z
UID:3183-1760176800-1760281200@scoutingheartotexas.org
SUMMARY:Fall Fam Fest 2025
DESCRIPTION:REGISTER HERE! \nScouts\, Non Scouts and Families are welcome to attend the 2025 Heart O’ Texas Fall Family Festival.  Come find out what makes Scouting fun for all ages. Kindergarten through 5th Grade youth and their families are encouraged to attend and participate in lots of Scouting activities\, like Cooking\, First Aid\, Camping\, Fishing\, Fire Building\, Rope Bridge and Pioneering\, Geocaching and Map Reading\, Archery\, BB Guns and more.  Find out just how much Scouts do.  There really is SOMETHING FOR EVERYONE. \nThis date is subject to change based on the Baylor Football Schedule\, but plan to attend our weekend in October.
URL:https://scoutingheartotexas.org/event/fall-fam-fest-2025/
LOCATION:Salvation Army Event Center\, 1225 Interstate 35 S\, Waco\, TX\, 76706
CATEGORIES:Cub Scouts,Scouts BSA
END:VEVENT
BEGIN:VEVENT
DTSTART;TZID=America/Chicago:20251010T070000
DTEND;TZID=America/Chicago:20251012T160000
DTSTAMP:20260423T054627
CREATED:20250809T195140Z
LAST-MODIFIED:20250809T203825Z
UID:3176-1760079600-1760284800@scoutingheartotexas.org
SUMMARY:Wood Badge 2025 - Sid Richardson Weekend 1
DESCRIPTION:REGISTER HERE! \nWB 25-2 at Sid Richardson Scout Ranch \nWeekend 1: October 10-12\, 2025 \nWeekend 2: October 24-26\, 2025 \nPurpose of Wood Badge \nThe purpose of Wood Badge is to develop skilled leaders who can strengthen Scouting units in achieving the mission of Scouting America. \nWhen we accomplish the mission of Scouting\, we do it in the units. Therefore\, the short form of the purpose is\, the purpose of Wood Badge is to strengthen units. \nEvery staff member and participant must complete a Scouting America Annual Health and Medical Record – parts A\, B\, and C. \nAlthough the course is different today\, what Baden-Powell said in 1919 still applies: \n“One of the purposes of Wood Badge training is to get Scouters to think about the practice of Scouting\, to meet together\, to exchange experiences\, and to live together in the spirit of the Scout Oath.”
URL:https://scoutingheartotexas.org/event/wood-badge-2025-sid-richardson-weekend-1/
LOCATION:Sid Richardson Scout Ranch\, Boy Scout Rd\, Runaway Bay\, TX\, 76425
CATEGORIES:Training
END:VEVENT
BEGIN:VEVENT
DTSTART;TZID=America/Chicago:20251009T190000
DTEND;TZID=America/Chicago:20251009T200000
DTSTAMP:20260423T054627
CREATED:20250809T193200Z
LAST-MODIFIED:20250809T193200Z
UID:3158-1760036400-1760040000@scoutingheartotexas.org
SUMMARY:Roundtable Meeting
DESCRIPTION:Join us on the 2nd Thursday of each month (except June and July) for our monthly Leaders Roundtable. This is a space to share information and support for leaders\, volunteers\, committee members\, and parents with the BSA-Longhorn Council-Heart O’ Texas District. All BSA unit reps are welcome\, especially Cubmasters\, Den Leaders Committee Chairs\, Scoutmasters\, and Assistant Scoutmasters. Discussing programming\, hot topics\, activities\, and scouting needs for networking\, fun\, and fellowship.
URL:https://scoutingheartotexas.org/event/roundtable-meeting-3/
LOCATION:Waco Scout Office\, 300 Lake Air Dr.\, Waco\, TX\, 76710
CATEGORIES:Meetings
END:VEVENT
BEGIN:VEVENT
DTSTART;TZID=America/Chicago:20251005T150000
DTEND;TZID=America/Chicago:20251005T180000
DTSTAMP:20260423T054627
CREATED:20250809T212716Z
LAST-MODIFIED:20250921T185031Z
UID:3250-1759676400-1759687200@scoutingheartotexas.org
SUMMARY:Poison Ivy Clearing - Conservation Hours
DESCRIPTION:In preparation for the Tri District Fall Camporee\, we need help clearing Poison Ivy at the campgrounds! \nMake sure to bring closed toe shoes\, long pants\, a long sleeved shirt\, gloves\, and hedge clippers/shears! \nThis will count as 3 conservation hours.
URL:https://scoutingheartotexas.org/event/poison-ivy-clearing-conservation-hours/
LOCATION:The Master’s Workshop Camp\, 179 Church Camp Ln\, Robinson\, TX\, 76706
CATEGORIES:Scouts BSA,Service Project
END:VEVENT
BEGIN:VEVENT
DTSTART;TZID=America/Chicago:20250927T080000
DTEND;TZID=America/Chicago:20250927T120000
DTSTAMP:20260423T054627
CREATED:20250821T002315Z
LAST-MODIFIED:20250821T002315Z
UID:3280-1758960000-1758974400@scoutingheartotexas.org
SUMMARY:Limestone Bluff Paddling Trail Cleanup
DESCRIPTION:On National Public Lands Day\, join us at Fort Parker State Park in Mexia\, TX from 8am-noon to remove trash from the Limestone Bluffs Paddling Trail. Canoes/kayaks provided by the park on a limited basis. Advance registration required. Please contact leah.turner@tpwd.Texas.gov for more info. See you there! \nCrew 376 is inviting all Crews to participate!
URL:https://scoutingheartotexas.org/event/limestone-bluff-paddling-trail-cleanup/
LOCATION:Fort Parker State Park\, 194 Park Rd\, Mexia\, TX\, 76667
CATEGORIES:Service Project
END:VEVENT
BEGIN:VEVENT
DTSTART;TZID=America/Chicago:20250921T180000
DTEND;TZID=America/Chicago:20250926T080000
DTSTAMP:20260423T054627
CREATED:20250809T194322Z
LAST-MODIFIED:20250809T202250Z
UID:3163-1758477600-1758873600@scoutingheartotexas.org
SUMMARY:Wood Badge 2025 - Philmont Scout Ranch
DESCRIPTION:Wood Badge Courses 2025\nREGISTER HERE! \nWB 25-1 at Philmont Scout Ranch September 21-26\, 2025 \n*Participants must check-in at Philmont Scout Ranch by 6 PM on September 21st* \nEvery participant and staff member must complete a Scouting America Annual Health and Medical Record – parts A\, B\, and C and meet height\, weight\, and blood pressure requirements upon arrival and be approved for participation by the on-site Philmont medical staff. \nPlease Note: Staff and Participants who do not meet these requirements upon arrival should contact the Course Director\, Chris Gonzalez. \n\nPurpose of Wood Badge \nThe purpose of Wood Badge is to develop skilled leaders who can strengthen Scouting units in achieving the mission of Scouting America. \nWhen we accomplish the mission of Scouting\, we do it in the units. Therefore\, the short form of the purpose is\, the purpose of Wood Badge is to strengthen units. \nEvery staff member and participant must complete a Scouting America Annual Health and Medical Record – parts A\, B\, and C. \nAlthough the course is different today\, what Baden-Powell said in 1919 still applies: \n“One of the purposes of Wood Badge training is to get Scouters to think about the practice of Scouting\, to meet together\, to exchange experiences\, and to live together in the spirit of the Scout Oath.”
URL:https://scoutingheartotexas.org/event/wood-badge-2025/
LOCATION:Philmont Scout Ranch\, 17 Deer Run Rd\, Cimarron\, New Mexico\, 87714
CATEGORIES:Training
END:VEVENT
BEGIN:VEVENT
DTSTART;TZID=America/Chicago:20250918T183000
DTEND;TZID=America/Chicago:20250918T193000
DTSTAMP:20260423T054627
CREATED:20250809T211631Z
LAST-MODIFIED:20250809T211631Z
UID:3246-1758220200-1758223800@scoutingheartotexas.org
SUMMARY:Den Leader Training
DESCRIPTION:Join us at the Waco Scout Office for a quick Training meeting where we distribute resources for and talk about how to be a successful Den Leader! Current and prospective Den Leaders and Cub Parents are more than welcome to attend!
URL:https://scoutingheartotexas.org/event/den-leader-training/
LOCATION:Waco Scout Office\, 300 Lake Air Dr.\, Waco\, TX\, 76710
CATEGORIES:Cub Scouts,Training
END:VEVENT
BEGIN:VEVENT
DTSTART;TZID=America/Chicago:20250911T190000
DTEND;TZID=America/Chicago:20250911T200000
DTSTAMP:20260423T054627
CREATED:20250809T193208Z
LAST-MODIFIED:20250809T193208Z
UID:3159-1757617200-1757620800@scoutingheartotexas.org
SUMMARY:Roundtable Meeting
DESCRIPTION:Join us on the 2nd Thursday of each month (except June and July) for our monthly Leaders Roundtable. This is a space to share information and support for leaders\, volunteers\, committee members\, and parents with the BSA-Longhorn Council-Heart O’ Texas District. All BSA unit reps are welcome\, especially Cubmasters\, Den Leaders Committee Chairs\, Scoutmasters\, and Assistant Scoutmasters. Discussing programming\, hot topics\, activities\, and scouting needs for networking\, fun\, and fellowship.
URL:https://scoutingheartotexas.org/event/roundtable-meeting-4/
LOCATION:Waco Scout Office\, 300 Lake Air Dr.\, Waco\, TX\, 76710
CATEGORIES:Meetings
END:VEVENT
BEGIN:VEVENT
DTSTART;TZID=America/Chicago:20250911T180000
DTEND;TZID=America/Chicago:20250911T190000
DTSTAMP:20260423T054627
CREATED:20250907T193848Z
LAST-MODIFIED:20250907T194155Z
UID:3290-1757613600-1757617200@scoutingheartotexas.org
SUMMARY:District Commissioner Meeting
DESCRIPTION:
URL:https://scoutingheartotexas.org/event/district-commissioner-meeting-202509/
LOCATION:Waco Scout Office\, 300 Lake Air Dr.\, Waco\, TX\, 76710
CATEGORIES:Meetings
END:VEVENT
BEGIN:VEVENT
DTSTART;TZID=America/Chicago:20250904T183000
DTEND;TZID=America/Chicago:20250904T193000
DTSTAMP:20260423T054627
CREATED:20250815T003535Z
LAST-MODIFIED:20250815T003606Z
UID:3271-1757010600-1757014200@scoutingheartotexas.org
SUMMARY:District Committee Meeting
DESCRIPTION:This is a meeting for the District Committees and any Unit Leaders that would like to participate in guiding the direction of the District. \nThe primary purpose of this meeting is for the various Committees to discuss their reports for each month\, but anyone is welcome to attend and bring ideas and/or concerns you may have. The District team will do their best to support you and your units!
URL:https://scoutingheartotexas.org/event/district-committee-meeting-2/
LOCATION:Waco Scout Office\, 300 Lake Air Dr.\, Waco\, TX\, 76710
CATEGORIES:Meetings
END:VEVENT
BEGIN:VEVENT
DTSTART;TZID=America/Chicago:20250823T190000
DTEND;TZID=America/Chicago:20250823T210000
DTSTAMP:20260423T054627
CREATED:20250809T195218Z
LAST-MODIFIED:20250809T204456Z
UID:3175-1755975600-1755982800@scoutingheartotexas.org
SUMMARY:NYLT Banquet
DESCRIPTION:REGISTER HERE! \nAll NYLT graduates\, Staff\, their families and friends are invited to the NYLT- Annual Banquet! \nSaturday\, August 23rd\, 2025 \n7:00 – 9:00 PM \nMethodist Church of Joshua \n$28.00 per person \n**No meal tickets will be sold at the door**
URL:https://scoutingheartotexas.org/event/nylt-banquet/
LOCATION:Methodist Church of Joshua\, 114 Paula St\, Joshua\, TX\, 76058
CATEGORIES:Scouts BSA,Special Events
END:VEVENT
BEGIN:VEVENT
DTSTART;TZID=America/Chicago:20250821T183000
DTEND;TZID=America/Chicago:20250821T193000
DTSTAMP:20260423T054627
CREATED:20250809T211059Z
LAST-MODIFIED:20250809T211616Z
UID:3244-1755801000-1755804600@scoutingheartotexas.org
SUMMARY:Fall Recruitment and Popcorn Training
DESCRIPTION:Join us at the Waco Scout Office for a quick Training meeting where we distribute resources for and talk about Fall Recruitment efforts and how to sell Popcorn in your units! Leaders in Cubs and Scouts BSA as well as youth leaders are more than welcome to attend!
URL:https://scoutingheartotexas.org/event/fall-recruitment-and-popcorn-training/
LOCATION:Waco Scout Office\, 300 Lake Air Dr.\, Waco\, TX\, 76710
CATEGORIES:Cub Scouts,Scouts BSA,Training
END:VEVENT
BEGIN:VEVENT
DTSTART;TZID=America/Chicago:20250816T090000
DTEND;TZID=America/Chicago:20250816T163000
DTSTAMP:20260423T054627
CREATED:20250809T194051Z
LAST-MODIFIED:20250809T203908Z
UID:3162-1755334800-1755361800@scoutingheartotexas.org
SUMMARY:Camp Tahuaya Community Service Day
DESCRIPTION:REGISTER HERE! \nCamp Tahuaya Community Service Day\nLet’s Tidy Up the Trails & Tame the Wilderness—Together! \nCamp Tahuaya is up and running\, but we’ve got a few projects that could use your elbow grease! From pulling weeds to clearing trails and organizing the warehouse\, there’s something for everyone—and it’ll be more fun with you there. \nReady to jump in and make things happen? \nAll skills and trades are welcome—whether you’re a toolbelt pro or just love being outdoors\, we’ve got a job for you. \nSchedule: \n9:00 AM – Check-in with coffee\, refreshments & project assignments\n12:00–1:00 PM – Lunch (on us\, if you register!)\n4:30 PM – Project wrap-up and high-fives all around \nStay as long as you like—an hour\, an afternoon\, or the whole day. Every bit helps! \nThinking about camping overnight? Contact Becca Kowalski at becca@camptahuaya.org to make arrangements. \n Please note: Camp Tahuaya will be an active work site during this event.
URL:https://scoutingheartotexas.org/event/camp-tahuaya-community-service-day/
LOCATION:Camp Tahuaya\, 2603 Tahuaya Dr\, Belton\, TX\, 76513
CATEGORIES:Scouts BSA,Service Project
END:VEVENT
BEGIN:VEVENT
DTSTART;TZID=America/Chicago:20250814T190000
DTEND;TZID=America/Chicago:20250814T200000
DTSTAMP:20260423T054627
CREATED:20250809T193103Z
LAST-MODIFIED:20250809T193103Z
UID:3152-1755198000-1755201600@scoutingheartotexas.org
SUMMARY:Roundtable Meeting
DESCRIPTION:Join us on the 2nd Thursday of each month (except June and July) for our monthly Leaders Roundtable. This is a space to share information and support for leaders\, volunteers\, committee members\, and parents with the BSA-Longhorn Council-Heart O’ Texas District. All BSA unit reps are welcome\, especially Cubmasters\, Den Leaders Committee Chairs\, Scoutmasters\, and Assistant Scoutmasters. Discussing programming\, hot topics\, activities\, and scouting needs for networking\, fun\, and fellowship.
URL:https://scoutingheartotexas.org/event/roundtable-meeting-2/
LOCATION:Waco Scout Office\, 300 Lake Air Dr.\, Waco\, TX\, 76710
CATEGORIES:Meetings
END:VEVENT
BEGIN:VEVENT
DTSTART;TZID=America/Chicago:20250814T180000
DTEND;TZID=America/Chicago:20250814T190000
DTSTAMP:20260423T054627
CREATED:20250809T192423Z
LAST-MODIFIED:20250809T192423Z
UID:3141-1755194400-1755198000@scoutingheartotexas.org
SUMMARY:Commissioners Meeting
DESCRIPTION:Unit Commissioners\, this monthly meeting is for you. We have a short meeting from 6:00 p.m. to 7:00 p.m. at the Waco Scout office\, 300 Lake Air Dr.\, Waco\, TX 76712. Unit Commissioners are a Friend of the Units they serve.  Come find out how to be the best friend and resource possible and find out what’s going on in the District that you can pass on to your units.
URL:https://scoutingheartotexas.org/event/commissioners-meeting/
LOCATION:Waco Scout Office\, 300 Lake Air Dr.\, Waco\, TX\, 76710
CATEGORIES:Meetings
END:VEVENT
BEGIN:VEVENT
DTSTART;TZID=America/Chicago:20250814T180000
DTEND;TZID=America/Chicago:20250814T190000
DTSTAMP:20260423T054627
CREATED:20250809T191915Z
LAST-MODIFIED:20250809T192958Z
UID:3140-1755194400-1755198000@scoutingheartotexas.org
SUMMARY:District Committee Meeting
DESCRIPTION:Hosted by: HOT
URL:https://scoutingheartotexas.org/event/district-committee-meeting/
LOCATION:Waco Scout Office\, 300 Lake Air Dr.\, Waco\, TX\, 76710
CATEGORIES:Meetings
END:VEVENT
END:VCALENDAR