BEGIN:VCALENDAR
VERSION:2.0
PRODID:-//scoutingheartotexas.org - ECPv6.15.14//NONSGML v1.0//EN
CALSCALE:GREGORIAN
METHOD:PUBLISH
X-ORIGINAL-URL:https://scoutingheartotexas.org
X-WR-CALDESC:Events for scoutingheartotexas.org
REFRESH-INTERVAL;VALUE=DURATION:PT1H
X-Robots-Tag:noindex
X-PUBLISHED-TTL:PT1H
BEGIN:VTIMEZONE
TZID:America/Chicago
BEGIN:DAYLIGHT
TZOFFSETFROM:-0600
TZOFFSETTO:-0500
TZNAME:CDT
DTSTART:20250309T080000
END:DAYLIGHT
BEGIN:STANDARD
TZOFFSETFROM:-0500
TZOFFSETTO:-0600
TZNAME:CST
DTSTART:20251102T070000
END:STANDARD
BEGIN:DAYLIGHT
TZOFFSETFROM:-0600
TZOFFSETTO:-0500
TZNAME:CDT
DTSTART:20260308T080000
END:DAYLIGHT
BEGIN:STANDARD
TZOFFSETFROM:-0500
TZOFFSETTO:-0600
TZNAME:CST
DTSTART:20261101T070000
END:STANDARD
BEGIN:DAYLIGHT
TZOFFSETFROM:-0600
TZOFFSETTO:-0500
TZNAME:CDT
DTSTART:20270314T080000
END:DAYLIGHT
BEGIN:STANDARD
TZOFFSETFROM:-0500
TZOFFSETTO:-0600
TZNAME:CST
DTSTART:20271107T070000
END:STANDARD
END:VTIMEZONE
BEGIN:VEVENT
DTSTART;TZID=America/Chicago:20260123T170000
DTEND;TZID=America/Chicago:20260125T120000
DTSTAMP:20260423T064647
CREATED:20251212T011740Z
LAST-MODIFIED:20251212T012342Z
UID:3385-1769187600-1769342400@scoutingheartotexas.org
SUMMARY:Tri-District Freeze-O-Ree 2026 (Southern Service Area Winter Camporee)
DESCRIPTION:REGISTER HERE! \nTri-District Freeze-O-Ree 2026: Scouts of the Roundtable \nHosted by the Heart O’ Texas \nLocation: Old Fort Parker\, Groesbeck\, TX \nDates: 5:00 PM January 23\, 2026 – 12:00 PM January 25\, 2026 \nTri-District Freeze-O-Ree Workbook \nStep into a weekend of adventure\, challenge\, and medieval fun at the Tri-District Freeze-O-Ree 2026: Scouts of the Roundtable!\nScouts from across Central Texas will gather at historic Old Fort Parker to test their skills\, show Scout spirit\, and join in friendly competition inspired by the legends of King Arthur and his knights. \nThis year’s Freeze-O-Ree brings together three districts — Heart O’ Texas\, Leon Valley\, and Chisholm Trail — for an unforgettable camping experience filled with teamwork\, leadership\, and classic Scouting fun. \nEvent Highlights Include: \nPatrol Competitions: Archery\, First Aid\, Pioneering\, Cooking\, Orienteering\, Kim’s Game\, and more. \nCampfire Stories: Create your own medieval-themed tale with a twist of creativity and teamwork. \nCampwide Game: An epic roundtable challenge to bring all Scouts together for fun and fellowship. \nScout Spirit Awards: Recognizing troops and patrols that truly embody the ideals of Scouting. \nOrder of the Arrow Call-Out Ceremony: Celebrate those chosen for Scouting’s National Honor Society. \nCompete for iconic prizes like The Silver Axe and The Bronze Hatchet\, awarded to the top-performing troops for excellence in competition and campsite inspection. \nFrom the crackle of campfires to the thrill of competition\, Freeze-O-Ree 2026 is where legends are made\, friendships are forged\, and memories last a lifetime. \nJoin the Knights of Scouting’s Roundtable\, because adventure awaits the brave! \nFollow your district Facebook page for updates and registration details.
URL:https://scoutingheartotexas.org/event/tri-district-freeze-o-ree-2026-southern-service-area-winter-camporee/
LOCATION:Old Fort Parker\, 866 Park Rd 35\, Groesbeck\, TX\, 76642\, United States
CATEGORIES:Scouts BSA
END:VEVENT
BEGIN:VEVENT
DTSTART;TZID=America/Chicago:20260205T183000
DTEND;TZID=America/Chicago:20260205T200000
DTSTAMP:20260423T064647
CREATED:20260121T011939Z
LAST-MODIFIED:20260121T011939Z
UID:3411-1770316200-1770321600@scoutingheartotexas.org
SUMMARY:District Committee Meeting
DESCRIPTION:Monthly meet-up for the District Key 3 and the District Committee to come together and review current happenings and planning efforts. Contact District Chair\, \nCurtis Brown to ask any questions or to request needing to be on the agenda.
URL:https://scoutingheartotexas.org/event/district-committee-meeting-3/
LOCATION:Waco Scout Office\, 300 Lake Air Dr.\, Waco\, TX\, 76710
END:VEVENT
BEGIN:VEVENT
DTSTART;VALUE=DATE:20260206
DTEND;VALUE=DATE:20260207
DTSTAMP:20260423T064647
CREATED:20251108T212223Z
LAST-MODIFIED:20251108T212223Z
UID:3323-1770336000-1770422399@scoutingheartotexas.org
SUMMARY:WaRFA/CPR Training Weekend
DESCRIPTION:WaRFA/CPR Training Weekend \nBaylor Eastland Lakes Challenge Facility \nFebruary 6-8\, 2026 \nVenture Crew 1845 & Troop 497 \nCamping available upon request — contact tahuff8302003@yahoo.com by \nJanuary 20 to make arrangements. \nWhether you’re preparing for a high-adventure trek\, looking to enhance your first aid skills\, or just want to be better prepared in the outdoors\, this course is a great opportunity.
URL:https://scoutingheartotexas.org/event/warfa-cpr-training-weekend/
END:VEVENT
BEGIN:VEVENT
DTSTART;VALUE=DATE:20260212
DTEND;VALUE=DATE:20260213
DTSTAMP:20260423T064647
CREATED:20251108T212729Z
LAST-MODIFIED:20251108T212736Z
UID:3329-1770854400-1770940799@scoutingheartotexas.org
SUMMARY:NO Roundtable Tonight - Video Sent By Roundtable Commissioner
DESCRIPTION:Join us on the 2nd Thursday every other month (except June and July) for our monthly Leaders Roundtable. On alternate months\, an informational video is sent out. \nIn-Person Roundtable is a space to share information and support for leaders\, volunteers\, committee members\, and parents with the BSA-Longhorn Council-Heart O’ Texas District. All BSA unit reps are welcome\, especially Cubmasters\, Den Leaders Committee Chairs\, Scoutmasters\, and Assistant Scoutmasters. Discussing programming\, hot topics\, activities\, and scouting needs for networking\, fun\, and fellowship. \n  \n 
URL:https://scoutingheartotexas.org/event/no-roundtable-tonight-video-sent-by-rountable-commissioner/
CATEGORIES:Meetings
END:VEVENT
BEGIN:VEVENT
DTSTART;TZID=America/Chicago:20260212T180000
DTEND;TZID=America/Chicago:20260212T190000
DTSTAMP:20260423T064647
CREATED:20260121T013501Z
LAST-MODIFIED:20260121T013604Z
UID:3445-1770919200-1770922800@scoutingheartotexas.org
SUMMARY:District Commissioner Meeting
DESCRIPTION:The District Commissioners come together every month to review how best to support all units. Contact Flip Alexander\, District Commissioner\, to ask any questions about the meeting and/or to be on the agenda.
URL:https://scoutingheartotexas.org/event/district-commissioner-meeting-7/
LOCATION:Waco Scout Office\, 300 Lake Air Dr.\, Waco\, TX\, 76710
END:VEVENT
BEGIN:VEVENT
DTSTART;TZID=America/Chicago:20260305T183000
DTEND;TZID=America/Chicago:20260305T200000
DTSTAMP:20260423T064647
CREATED:20260121T012035Z
LAST-MODIFIED:20260121T012035Z
UID:3413-1772735400-1772740800@scoutingheartotexas.org
SUMMARY:District Committee Meeting
DESCRIPTION:Monthly meet-up for the District Key 3 and the District Committee to come together and review current happenings and planning efforts. Contact District Chair\, \nCurtis Brown to ask any questions or to request needing to be on the agenda.
URL:https://scoutingheartotexas.org/event/district-committee-meeting-4/
END:VEVENT
BEGIN:VEVENT
DTSTART;TZID=America/Chicago:20260312T180000
DTEND;TZID=America/Chicago:20260312T190000
DTSTAMP:20260423T064647
CREATED:20260121T013430Z
LAST-MODIFIED:20260121T013430Z
UID:3443-1773338400-1773342000@scoutingheartotexas.org
SUMMARY:District Commissioner Meeting
DESCRIPTION:The District Commissioners come together every month to review how best to support all units. Contact Flip Alexander\, District Commissioner\, to ask any questions about the meeting and/or to be on the agenda.
URL:https://scoutingheartotexas.org/event/district-commissioner-meeting-6/
LOCATION:Waco Scout Office\, 300 Lake Air Dr.\, Waco\, TX\, 76710
END:VEVENT
BEGIN:VEVENT
DTSTART;TZID=America/Chicago:20260312T190000
DTEND;TZID=America/Chicago:20260312T200000
DTSTAMP:20260423T064647
CREATED:20260121T015718Z
LAST-MODIFIED:20260121T015718Z
UID:3447-1773342000-1773345600@scoutingheartotexas.org
SUMMARY:In-Person Roundtable
DESCRIPTION:
URL:https://scoutingheartotexas.org/event/in-person-roundtable-2/
END:VEVENT
BEGIN:VEVENT
DTSTART;VALUE=DATE:20260314
DTEND;VALUE=DATE:20260316
DTSTAMP:20260423T064647
CREATED:20260313T035221Z
LAST-MODIFIED:20260313T035221Z
UID:3476-1773446400-1773619199@scoutingheartotexas.org
SUMMARY:Introduction to Leadership Skills for Troops (ILST) Training & PLC Training
DESCRIPTION:When: March 14-15\, 2026 \nWhere: Camp Tahuaya (2603 Tahuaya Dr\, Belton\, TX 76513) \nWhy: To train new Scoutmasters\, Assistant Scoutmasters\, SPLs\, ASPLs and Patrol Leaders in how to conduct ILST and PLCs with their Troops. \nCost will be $20 and there will be training materials and food for the weekend.  Documents used during the training will be resources for you to take back to your troops to use for planning at the troop level.
URL:https://scoutingheartotexas.org/event/introduction-to-leadership-skills-for-troops-ilst-training-plc-training/
LOCATION:Camp Tahuaya\, 2603 Tahuaya Dr\, Belton\, TX\, 76513
CATEGORIES:Scouts BSA,Training
END:VEVENT
BEGIN:VEVENT
DTSTART;VALUE=DATE:20260316
DTEND;VALUE=DATE:20260501
DTSTAMP:20260423T064647
CREATED:20260313T034146Z
LAST-MODIFIED:20260313T034146Z
UID:3464-1773619200-1777593599@scoutingheartotexas.org
SUMMARY:Camp Cards Fundraiser
DESCRIPTION:The Camp Card fundraiser is a Discount Card with offers from local and National vendors/companies. This is a great deal for $10! The offers are a great mix of retail\, dining\, automotive services\, entertainment\, & much more. \nEach card also includes an online access code to 100s of additional coupons at various locations nationwide.
URL:https://scoutingheartotexas.org/event/camp-cards-fundraiser/
END:VEVENT
BEGIN:VEVENT
DTSTART;TZID=America/Chicago:20260321T100000
DTEND;TZID=America/Chicago:20260321T130000
DTSTAMP:20260423T064647
CREATED:20260313T033753Z
LAST-MODIFIED:20260313T033753Z
UID:3461-1774087200-1774098000@scoutingheartotexas.org
SUMMARY:Eve Guel's Eagle Scout Project
DESCRIPTION:Come assist in renovating a plot of land at Christ Church\, Waco. This will include sanding and sealing picnic tables\, building benches\, painting metal railing\, planting bulbs\, and removing brush and vines from the fence. Please come prepared to get dirty! \nWhat to bring: Filled water bottle & work gloves. \nRSVP: Brand Guel 254-366-6003
URL:https://scoutingheartotexas.org/event/eve-guels-eagle-scout-project/
LOCATION:Christ Church Waco\, 1008 Jefferson Ave\, Waco\, TX\, 76701\, United States
CATEGORIES:Eagle Scout Project,Service Project
END:VEVENT
BEGIN:VEVENT
DTSTART;VALUE=DATE:20260328
DTEND;VALUE=DATE:20260408
DTSTAMP:20260423T064647
CREATED:20260313T034631Z
LAST-MODIFIED:20260313T034631Z
UID:3468-1774656000-1775606399@scoutingheartotexas.org
SUMMARY:Cub Quest Weekend
DESCRIPTION:Cub Quest is an advancement-focused Saturday packed with fun and engaging activities for Cub Scouts at Camp Tahuaya in Belton\, TX! Scouts will rotate through three program sessions\, giving them the opportunity to earn up to three Adventure Loops or Pins. Meal service will be available for purchase\, and every Cub Quest weekends will also feature optional\, non-advancement activities Saturday evening and Sunday morning for even more fun. Overnight accommodations are available for those who want to extend the experience. Participants may attend as a Pack\, a Den\, or as individual families. Click below to learn more.
URL:https://scoutingheartotexas.org/event/cub-quest-weekend/
LOCATION:Camp Tahuaya\, 2603 Tahuaya Dr\, Belton\, TX\, 76513
CATEGORIES:Cub Scouts
END:VEVENT
BEGIN:VEVENT
DTSTART;TZID=America/Chicago:20260328T083000
DTEND;TZID=America/Chicago:20260328T120000
DTSTAMP:20260423T064647
CREATED:20260313T034739Z
LAST-MODIFIED:20260313T034739Z
UID:3470-1774686600-1774699200@scoutingheartotexas.org
SUMMARY:Heart O' Texas District Retreat & Strategic Planning Meet-Up
DESCRIPTION:Registered adults and volunteers are invited to review membership support/tips and share insights with the planning areas below for developing a District strategic plan. \n\nMembership sustainability\nAdult Training\nInvesting in Scouts\nCommunity
URL:https://scoutingheartotexas.org/event/heart-o-texas-district-retreat-strategic-planning-meet-up/
LOCATION:Waco Scout Office\, 300 Lake Air Dr.\, Waco\, TX\, 76710
CATEGORIES:Meetings,Special Events
END:VEVENT
BEGIN:VEVENT
DTSTART;VALUE=DATE:20260401
DTEND;VALUE=DATE:20260503
DTSTAMP:20260423T064647
CREATED:20260313T034849Z
LAST-MODIFIED:20260313T034849Z
UID:3472-1775001600-1777766399@scoutingheartotexas.org
SUMMARY:Earth Month 2026
DESCRIPTION:This April\, Longhorn Council\, Scouting America is proud to launch our First Annual Earth Month Celebration\, a month-long commitment to conservation\, service\, and stewardship. Instead of focusing on a single Earth Day\, we are inviting our Scouts\, Volunteer Leaders\, parents\, and supporters to dedicate the entire month of April to making a lasting impact in the communities we serve. \nOur goal is bold: 20\,000 logged Community Service hours in one month. Together\, we can protect natural spaces\, restore local environments\, and demonstrate the power of Scouting through meaningful action. \nThroughout April\, units and families are encouraged to participate in conservation projects such as park cleanups\, waterway restoration\, recycling drives\, habitat improvement\, and other environmental initiatives that strengthen our communities and protect our planet for future generations. \nTo amplify our impact\, Scouts are also encouraged to participate in at least one of the following conservation initiatives: \n\nScouting for Clean Waterways – Protecting rivers\, lakes\, and streams through cleanup and pollution prevention.\nPlastic Tide Turners Challenge (World Scouting) – Raising awareness and taking action to reduce plastic pollution worldwide.\nScouts Trash the Trash Day – A global cleanup event taking place on May 2\, 2026\, uniting Scouts in a powerful\, visible day of service. (Yes\, we know it’s in May\, but it’s so close to April)\n\nEarth Month is more than a project; it is a movement. It is our chance to show leadership\, live the Scout Oath and Law\, and leave our world better than we found it. Join us this April as we serve with purpose\, protect our planet\, and make history with Longhorn Council’s first Earth Month. \nInstructions for logging Service Hours: https://help.scoutbook.scouting.org/knowledge-base/activitylogs/ \nThis event is supported by Longhorn Council’s Outdoor Ethics and International Scouting Committes
URL:https://scoutingheartotexas.org/event/earth-month-2026/
CATEGORIES:Cub Scouts,Scouts BSA,Service Project,Special Events
END:VEVENT
BEGIN:VEVENT
DTSTART;TZID=America/Chicago:20260402T183000
DTEND;TZID=America/Chicago:20260402T200000
DTSTAMP:20260423T064647
CREATED:20260121T012138Z
LAST-MODIFIED:20260121T013708Z
UID:3415-1775154600-1775160000@scoutingheartotexas.org
SUMMARY:District Committee Meeting
DESCRIPTION:Monthly meet-up for the District Key 3 and the District Committee to come together and review current happenings and planning efforts. Contact District Chair\, \nCurtis Brown to ask any questions or to request needing to be on the agenda.
URL:https://scoutingheartotexas.org/event/district-committee-meeting-5/
LOCATION:Waco Scout Office\, 300 Lake Air Dr.\, Waco\, TX\, 76710
END:VEVENT
BEGIN:VEVENT
DTSTART;TZID=America/Chicago:20260409T180000
DTEND;TZID=America/Chicago:20260409T190000
DTSTAMP:20260423T064647
CREATED:20260121T013353Z
LAST-MODIFIED:20260121T013353Z
UID:3441-1775757600-1775761200@scoutingheartotexas.org
SUMMARY:District Commissioner Meeting
DESCRIPTION:The District Commissioners come together every month to review how best to support all units. Contact Flip Alexander\, District Commissioner\, to ask any questions about the meeting and/or to be on the agenda.
URL:https://scoutingheartotexas.org/event/district-commissioner-meeting-5/
LOCATION:Waco Scout Office\, 300 Lake Air Dr.\, Waco\, TX\, 76710
END:VEVENT
BEGIN:VEVENT
DTSTART;TZID=America/Chicago:20260409T183000
DTEND;TZID=America/Chicago:20260409T220000
DTSTAMP:20260423T064647
CREATED:20251212T013445Z
LAST-MODIFIED:20251212T013445Z
UID:3395-1775759400-1775772000@scoutingheartotexas.org
SUMMARY:District Recognition Dinner
DESCRIPTION:REGISTER HERE! \nPlease help us celebrate you and your accomplishments this year at the Heart O’ Texas District Recognition Dinner. \nLee Lockwood Library & Museum\nThursday 04-09-2026\n6:30 PM CT to 10:00 PM CT \nAwards to be presented include the District Award of Merit\, Cubmaster and Scoutmaster of the Year\, Training Awards\, and many others.  Send in your pictures to help us highlight your unit in our YEAR IN REVIEW presentation. \n 
URL:https://scoutingheartotexas.org/event/district-recognition-dinner/
CATEGORIES:Cub Scouts,Scouts BSA,Special Events
END:VEVENT
BEGIN:VEVENT
DTSTART;VALUE=DATE:20260410
DTEND;VALUE=DATE:20260413
DTSTAMP:20260423T064647
CREATED:20260313T035351Z
LAST-MODIFIED:20260313T035351Z
UID:3478-1775779200-1776038399@scoutingheartotexas.org
SUMMARY:Certified Angling Instructor Training
DESCRIPTION:“Give a man a fish and you feed him for a day. Teach him how to fish and you feed him for a lifetime” – Lao Tzu. \nJoin our Certified Anging Instructor Class. Learn how to inspire the next generation by teaching a lifelong skill. Fishing is one of the most popular youth activities\, but do you know how to explain the basics? Let us show you! \nThe Cub Scout program is going to be introducing more opportunities for fishing adventure advancement. This is the perfect class to learn how to take your youth on a fun & successful fishing outing. \nOur Certified Anging Instructor Class introduces you to equipment\, knot tying\, tackle assembly\, casting\, fishing skills; fish ID and habitats; regulations and ethics\, safety and stewardship through fun hands on activities and lessons. \nWho should attend? Anging educators can be anyone\, age 15 and older\, parks and recreation staff\, teachers\, summer camp staff\, home school providers\, youth group leaders\, fishing club members\, Scouting leaders for all ages. \nThis Certified Anging Instructor Class is being hosted by the Longhorn Council Fishing Committee & TPWD and will be held in person. Class is  January 23rd. 6:00pm to January 25th. 12:00pm. Meals and lodging in family suites included with registration. \nAdults (18+) will be certified through Scouting America & TPWD If you’d like to earn TPWD Certified Angler status\, please complete the additional registration at the link below—there’s no extra cost. TPWD Angler Class \nTeams Scouts (15+) will be certified through Scouting America. \nParticipants will earn their Anging Education Certification\, get some free swag and information on how to gather additional resources.  Spread the word and invite others to join in on the fun!
URL:https://scoutingheartotexas.org/event/certified-angling-instructor-training/
LOCATION:Camp Tahuaya\, 2603 Tahuaya Dr\, Belton\, TX\, 76513
CATEGORIES:Training
END:VEVENT
BEGIN:VEVENT
DTSTART;TZID=America/Chicago:20260414T183000
DTEND;TZID=America/Chicago:20260414T200000
DTSTAMP:20260423T064647
CREATED:20260312T004915Z
LAST-MODIFIED:20260312T004915Z
UID:3458-1776191400-1776196800@scoutingheartotexas.org
SUMMARY:Holocaust Remembrance
DESCRIPTION:Join us for the annual Holocaust Remembrance Day event featuring guest speaker and author Ron Schwarz. The grandson and son of survivors\, Ron will share insights from his family memoir\, The Quiet Strength of Resilience. His presentation documents his father’s journey of survival and explores the enduring legacy of hope and strength passed down through generations. \nSponsored by Temple Rodef Sholom\, Congregation Agudath Jacob\, and the Greater Waco Interfaith Conference
URL:https://scoutingheartotexas.org/event/holocaust-remembrance/
LOCATION:Temple Rodef Sholom\, 1717 N New Road\, Waco\, TX\, 76707\, United States
CATEGORIES:Special Events
END:VEVENT
BEGIN:VEVENT
DTSTART;VALUE=DATE:20260417
DTEND;VALUE=DATE:20260420
DTSTAMP:20260423T064647
CREATED:20260313T034439Z
LAST-MODIFIED:20260313T034439Z
UID:3466-1776384000-1776643199@scoutingheartotexas.org
SUMMARY:Spring Camp-o-Ree
DESCRIPTION:Viking’s adventure & voyages led them to discover\, explore\, and\nnavigate from Asia to America. They lived in communities formed by families\, and they gave the\nworld as much as any other civilizations. Vikings globalized their world\, across Europe and\nbeyond.\nLet us navigate this VIKING Adventure together.
URL:https://scoutingheartotexas.org/event/spring-camp-o-ree/
LOCATION:Camp Tahuaya\, 2603 Tahuaya Dr\, Belton\, TX\, 76513
CATEGORIES:Scouts BSA,Special Events
END:VEVENT
BEGIN:VEVENT
DTSTART;VALUE=DATE:20260502
DTEND;VALUE=DATE:20260504
DTSTAMP:20260423T064647
CREATED:20260313T035452Z
LAST-MODIFIED:20260313T035452Z
UID:3480-1777680000-1777852799@scoutingheartotexas.org
SUMMARY:IOLS/BALOO-Southern Service Area
DESCRIPTION:Calling all adventurous souls and dedicated leaders! Are you ready to take your Scouting journey to new heights? Look no further than IOLS (Introduction to Outdoor Leader Skills) and BALOO (Basic Adult Leader Outdoor Orientation). Prepare to embark on a transformative learning experience that will empower you as a Scout leader like never before!
URL:https://scoutingheartotexas.org/event/iols-baloo-southern-service-area-2/
LOCATION:Camp Tahuaya\, 2603 Tahuaya Dr\, Belton\, TX\, 76513
CATEGORIES:Training
END:VEVENT
BEGIN:VEVENT
DTSTART;TZID=America/Chicago:20260507T183000
DTEND;TZID=America/Chicago:20260507T200000
DTSTAMP:20260423T064647
CREATED:20260121T012210Z
LAST-MODIFIED:20260121T012210Z
UID:3417-1778178600-1778184000@scoutingheartotexas.org
SUMMARY:District Committee Meeting
DESCRIPTION:Monthly meet-up for the District Key 3 and the District Committee to come together and review current happenings and planning efforts. Contact District Chair\, \nCurtis Brown to ask any questions or to request needing to be on the agenda.
URL:https://scoutingheartotexas.org/event/district-committee-meeting-6/
END:VEVENT
BEGIN:VEVENT
DTSTART;TZID=America/Chicago:20260514T180000
DTEND;TZID=America/Chicago:20260514T190000
DTSTAMP:20260423T064647
CREATED:20260121T013313Z
LAST-MODIFIED:20260121T015411Z
UID:3439-1778781600-1778785200@scoutingheartotexas.org
SUMMARY:District Commissioner Meeting
DESCRIPTION:The District Commissioners come together every month to review how best to support all units. Contact Flip Alexander\, District Commissioner\, to ask any questions about the meeting and/or to be on the agenda.
URL:https://scoutingheartotexas.org/event/district-commissioner-meeting-4/
LOCATION:Waco Scout Office\, 300 Lake Air Dr.\, Waco\, TX\, 76710
END:VEVENT
BEGIN:VEVENT
DTSTART;TZID=America/Chicago:20260514T190000
DTEND;TZID=America/Chicago:20260514T200000
DTSTAMP:20260423T064647
CREATED:20260121T015801Z
LAST-MODIFIED:20260121T015801Z
UID:3450-1778785200-1778788800@scoutingheartotexas.org
SUMMARY:In-Person Roundtable
DESCRIPTION:
URL:https://scoutingheartotexas.org/event/in-person-roundtable-3/
END:VEVENT
BEGIN:VEVENT
DTSTART;VALUE=DATE:20260610
DTEND;VALUE=DATE:20260613
DTSTAMP:20260423T064647
CREATED:20260313T035121Z
LAST-MODIFIED:20260313T035121Z
UID:3474-1781049600-1781308799@scoutingheartotexas.org
SUMMARY:Heart O' Texas Cub Camp
DESCRIPTION:If your Scouts had fun last year\, just wait until the 2026 Cub Scout Day Camp arrives! Join us for an unforgettable Twilight Camp experience featuring aquatics\, range and target activities\, and exciting dinosaur-themed adventures. We can’t wait to welcome your Scouts for evenings full of fun\, friends\, and discovery — stay tuned for more details coming soon! \nJune 10 – 12 from 5:00 p.m. to 9:00 p.m.
URL:https://scoutingheartotexas.org/event/heart-o-texas-cub-camp/
LOCATION:The Master’s Workshop Camp\, 179 Church Camp Ln\, Robinson\, TX\, 76706
CATEGORIES:Cub Scouts,Special Events
END:VEVENT
BEGIN:VEVENT
DTSTART;TZID=America/Chicago:20260806T183000
DTEND;TZID=America/Chicago:20260806T200000
DTSTAMP:20260423T064647
CREATED:20260121T012424Z
LAST-MODIFIED:20260121T012424Z
UID:3419-1786041000-1786046400@scoutingheartotexas.org
SUMMARY:District Committee Meeting
DESCRIPTION:Monthly meet-up for the District Key 3 and the District Committee to come together and review current happenings and planning efforts. Contact District Chair\, \nCurtis Brown to ask any questions or to request needing to be on the agenda.
URL:https://scoutingheartotexas.org/event/district-committee-meeting-7/
LOCATION:Waco Scout Office\, 300 Lake Air Dr.\, Waco\, TX\, 76710
END:VEVENT
BEGIN:VEVENT
DTSTART;VALUE=DATE:20260808
DTEND;VALUE=DATE:20260809
DTSTAMP:20260423T064647
CREATED:20260313T040053Z
LAST-MODIFIED:20260313T040053Z
UID:3484-1786147200-1786233599@scoutingheartotexas.org
SUMMARY:Heart O' Texas Merit Badge College
DESCRIPTION:Registration is open to everyone. \nThis is a 1-day event only\, August 8\, 2026  from 8am to 5PM. Check-in starts at 7:00 a.m.
URL:https://scoutingheartotexas.org/event/heart-o-texas-merit-badge-college/
CATEGORIES:Scouts BSA,Special Events
END:VEVENT
BEGIN:VEVENT
DTSTART;TZID=America/Chicago:20260813T180000
DTEND;TZID=America/Chicago:20260813T190000
DTSTAMP:20260423T064647
CREATED:20260121T013221Z
LAST-MODIFIED:20260121T015525Z
UID:3437-1786644000-1786647600@scoutingheartotexas.org
SUMMARY:District Commissioner Meeting
DESCRIPTION:The District Commissioners come together every month to review how best to support all units. Contact Flip Alexander\, District Commissioner\, to ask any questions about the meeting and/or to be on the agenda.
URL:https://scoutingheartotexas.org/event/district-commissioner-meeting-3/
LOCATION:Waco Scout Office\, 300 Lake Air Dr.\, Waco\, TX\, 76710
END:VEVENT
BEGIN:VEVENT
DTSTART;TZID=America/Chicago:20260813T190000
DTEND;TZID=America/Chicago:20260813T200000
DTSTAMP:20260423T064647
CREATED:20260121T015838Z
LAST-MODIFIED:20260121T015846Z
UID:3452-1786647600-1786651200@scoutingheartotexas.org
SUMMARY:In-Person Roundtable
DESCRIPTION:
URL:https://scoutingheartotexas.org/event/in-person-roundtable-4/
LOCATION:Waco Scout Office\, 300 Lake Air Dr.\, Waco\, TX\, 76710
END:VEVENT
BEGIN:VEVENT
DTSTART;TZID=America/Chicago:20260903T183000
DTEND;TZID=America/Chicago:20260903T200000
DTSTAMP:20260423T064647
CREATED:20260121T012515Z
LAST-MODIFIED:20260121T012515Z
UID:3421-1788460200-1788465600@scoutingheartotexas.org
SUMMARY:District Committee Meeting
DESCRIPTION:Monthly meet-up for the District Key 3 and the District Committee to come together and review current happenings and planning efforts. Contact District Chair\, \nCurtis Brown to ask any questions or to request needing to be on the agenda.
URL:https://scoutingheartotexas.org/event/district-committee-meeting-8/
LOCATION:Waco Scout Office\, 300 Lake Air Dr.\, Waco\, TX\, 76710
END:VEVENT
END:VCALENDAR