BEGIN:VCALENDAR
VERSION:2.0
PRODID:-//scoutingheartotexas.org - ECPv6.15.14//NONSGML v1.0//EN
CALSCALE:GREGORIAN
METHOD:PUBLISH
X-ORIGINAL-URL:https://scoutingheartotexas.org
X-WR-CALDESC:Events for scoutingheartotexas.org
REFRESH-INTERVAL;VALUE=DURATION:PT1H
X-Robots-Tag:noindex
X-PUBLISHED-TTL:PT1H
BEGIN:VTIMEZONE
TZID:America/Chicago
BEGIN:DAYLIGHT
TZOFFSETFROM:-0600
TZOFFSETTO:-0500
TZNAME:CDT
DTSTART:20250309T080000
END:DAYLIGHT
BEGIN:STANDARD
TZOFFSETFROM:-0500
TZOFFSETTO:-0600
TZNAME:CST
DTSTART:20251102T070000
END:STANDARD
BEGIN:DAYLIGHT
TZOFFSETFROM:-0600
TZOFFSETTO:-0500
TZNAME:CDT
DTSTART:20260308T080000
END:DAYLIGHT
BEGIN:STANDARD
TZOFFSETFROM:-0500
TZOFFSETTO:-0600
TZNAME:CST
DTSTART:20261101T070000
END:STANDARD
BEGIN:DAYLIGHT
TZOFFSETFROM:-0600
TZOFFSETTO:-0500
TZNAME:CDT
DTSTART:20270314T080000
END:DAYLIGHT
BEGIN:STANDARD
TZOFFSETFROM:-0500
TZOFFSETTO:-0600
TZNAME:CST
DTSTART:20271107T070000
END:STANDARD
END:VTIMEZONE
BEGIN:VEVENT
DTSTART;VALUE=DATE:20260610
DTEND;VALUE=DATE:20260613
DTSTAMP:20260423T031042
CREATED:20260313T035121Z
LAST-MODIFIED:20260313T035121Z
UID:3474-1781049600-1781308799@scoutingheartotexas.org
SUMMARY:Heart O' Texas Cub Camp
DESCRIPTION:If your Scouts had fun last year\, just wait until the 2026 Cub Scout Day Camp arrives! Join us for an unforgettable Twilight Camp experience featuring aquatics\, range and target activities\, and exciting dinosaur-themed adventures. We can’t wait to welcome your Scouts for evenings full of fun\, friends\, and discovery — stay tuned for more details coming soon! \nJune 10 – 12 from 5:00 p.m. to 9:00 p.m.
URL:https://scoutingheartotexas.org/event/heart-o-texas-cub-camp/
LOCATION:The Master’s Workshop Camp\, 179 Church Camp Ln\, Robinson\, TX\, 76706
CATEGORIES:Cub Scouts,Special Events
END:VEVENT
BEGIN:VEVENT
DTSTART;TZID=America/Chicago:20260806T183000
DTEND;TZID=America/Chicago:20260806T200000
DTSTAMP:20260423T031042
CREATED:20260121T012424Z
LAST-MODIFIED:20260121T012424Z
UID:3419-1786041000-1786046400@scoutingheartotexas.org
SUMMARY:District Committee Meeting
DESCRIPTION:Monthly meet-up for the District Key 3 and the District Committee to come together and review current happenings and planning efforts. Contact District Chair\, \nCurtis Brown to ask any questions or to request needing to be on the agenda.
URL:https://scoutingheartotexas.org/event/district-committee-meeting-7/
LOCATION:Waco Scout Office\, 300 Lake Air Dr.\, Waco\, TX\, 76710
END:VEVENT
BEGIN:VEVENT
DTSTART;VALUE=DATE:20260808
DTEND;VALUE=DATE:20260809
DTSTAMP:20260423T031042
CREATED:20260313T040053Z
LAST-MODIFIED:20260313T040053Z
UID:3484-1786147200-1786233599@scoutingheartotexas.org
SUMMARY:Heart O' Texas Merit Badge College
DESCRIPTION:Registration is open to everyone. \nThis is a 1-day event only\, August 8\, 2026  from 8am to 5PM. Check-in starts at 7:00 a.m.
URL:https://scoutingheartotexas.org/event/heart-o-texas-merit-badge-college/
CATEGORIES:Scouts BSA,Special Events
END:VEVENT
BEGIN:VEVENT
DTSTART;TZID=America/Chicago:20260813T180000
DTEND;TZID=America/Chicago:20260813T190000
DTSTAMP:20260423T031042
CREATED:20260121T013221Z
LAST-MODIFIED:20260121T015525Z
UID:3437-1786644000-1786647600@scoutingheartotexas.org
SUMMARY:District Commissioner Meeting
DESCRIPTION:The District Commissioners come together every month to review how best to support all units. Contact Flip Alexander\, District Commissioner\, to ask any questions about the meeting and/or to be on the agenda.
URL:https://scoutingheartotexas.org/event/district-commissioner-meeting-3/
LOCATION:Waco Scout Office\, 300 Lake Air Dr.\, Waco\, TX\, 76710
END:VEVENT
BEGIN:VEVENT
DTSTART;TZID=America/Chicago:20260813T190000
DTEND;TZID=America/Chicago:20260813T200000
DTSTAMP:20260423T031042
CREATED:20260121T015838Z
LAST-MODIFIED:20260121T015846Z
UID:3452-1786647600-1786651200@scoutingheartotexas.org
SUMMARY:In-Person Roundtable
DESCRIPTION:
URL:https://scoutingheartotexas.org/event/in-person-roundtable-4/
LOCATION:Waco Scout Office\, 300 Lake Air Dr.\, Waco\, TX\, 76710
END:VEVENT
BEGIN:VEVENT
DTSTART;TZID=America/Chicago:20260903T183000
DTEND;TZID=America/Chicago:20260903T200000
DTSTAMP:20260423T031042
CREATED:20260121T012515Z
LAST-MODIFIED:20260121T012515Z
UID:3421-1788460200-1788465600@scoutingheartotexas.org
SUMMARY:District Committee Meeting
DESCRIPTION:Monthly meet-up for the District Key 3 and the District Committee to come together and review current happenings and planning efforts. Contact District Chair\, \nCurtis Brown to ask any questions or to request needing to be on the agenda.
URL:https://scoutingheartotexas.org/event/district-committee-meeting-8/
LOCATION:Waco Scout Office\, 300 Lake Air Dr.\, Waco\, TX\, 76710
END:VEVENT
BEGIN:VEVENT
DTSTART;TZID=America/Chicago:20260910T180000
DTEND;TZID=America/Chicago:20260910T190000
DTSTAMP:20260423T031042
CREATED:20260121T013133Z
LAST-MODIFIED:20260121T013133Z
UID:3435-1789063200-1789066800@scoutingheartotexas.org
SUMMARY:District Commissioner Meeting
DESCRIPTION:The District Commissioners come together every month to review how best to support all units. Contact Flip Alexander\, District Commissioner\, to ask any questions about the meeting and/or to be on the agenda.
URL:https://scoutingheartotexas.org/event/district-commissioner-meeting-2/
LOCATION:Waco Scout Office\, 300 Lake Air Dr.\, Waco\, TX\, 76710
END:VEVENT
BEGIN:VEVENT
DTSTART;VALUE=DATE:20260920
DTEND;VALUE=DATE:20260926
DTSTAMP:20260423T031042
CREATED:20260313T035601Z
LAST-MODIFIED:20260313T035601Z
UID:3482-1789862400-1790380799@scoutingheartotexas.org
SUMMARY:Wood Badge at Philmont – Registration is Open!
DESCRIPTION:Join this national Wood Badge course sponsored by Longhorn Council at Philmont Scout Ranch. Train alongside Scouters from around the globe and grow your leadership impact. The purpose of Wood Badge is simple: to strengthen units by developing skilled leaders. \nAs Baden-Powell said\, it’s about thinking deeply about Scouting\, sharing experiences\, and living the Scout Oath together. \nAll participants must complete the Annual Health & Medical Record (Parts A\, B\, C) and meet Philmont medical requirements. This is not a trek. \nSpots are limited — submit your deposit today!
URL:https://scoutingheartotexas.org/event/wood-badge-at-philmont-registration-is-open/
LOCATION:Philmont Scout Ranch\, 17 Deer Run Rd\, Cimarron\, New Mexico\, 87714
CATEGORIES:Training
END:VEVENT
BEGIN:VEVENT
DTSTART;TZID=America/Chicago:20261001T183000
DTEND;TZID=America/Chicago:20261001T200000
DTSTAMP:20260423T031042
CREATED:20260121T012604Z
LAST-MODIFIED:20260121T012604Z
UID:3423-1790879400-1790884800@scoutingheartotexas.org
SUMMARY:District Committee Meeting
DESCRIPTION:Monthly meet-up for the District Key 3 and the District Committee to come together and review current happenings and planning efforts. Contact District Chair\, \nCurtis Brown to ask any questions or to request needing to be on the agenda.
URL:https://scoutingheartotexas.org/event/district-committee-meeting-9/
LOCATION:Waco Scout Office\, 300 Lake Air Dr.\, Waco\, TX\, 76710
END:VEVENT
BEGIN:VEVENT
DTSTART;TZID=America/Chicago:20261008T180000
DTEND;TZID=America/Chicago:20261008T190000
DTSTAMP:20260423T031042
CREATED:20260121T013054Z
LAST-MODIFIED:20260121T013054Z
UID:3433-1791482400-1791486000@scoutingheartotexas.org
SUMMARY:District Commissioner Meeting
DESCRIPTION:The District Commissioners come together every month to review how best to support all units. Contact Flip Alexander\, District Commissioner\, to ask any questions about the meeting and/or to be on the agenda.
URL:https://scoutingheartotexas.org/event/district-commissioner-meeting/
LOCATION:Waco Scout Office\, 300 Lake Air Dr.\, Waco\, TX\, 76710
END:VEVENT
BEGIN:VEVENT
DTSTART;TZID=America/Chicago:20261008T190000
DTEND;TZID=America/Chicago:20261008T200000
DTSTAMP:20260423T031042
CREATED:20260121T015921Z
LAST-MODIFIED:20260121T015921Z
UID:3454-1791486000-1791489600@scoutingheartotexas.org
SUMMARY:In-Person Roundtable
DESCRIPTION:
URL:https://scoutingheartotexas.org/event/in-person-roundtable-5/
LOCATION:Waco Scout Office\, 300 Lake Air Dr.\, Waco\, TX\, 76710
END:VEVENT
BEGIN:VEVENT
DTSTART;TZID=America/Chicago:20261105T183000
DTEND;TZID=America/Chicago:20261105T200000
DTSTAMP:20260423T031042
CREATED:20260121T012648Z
LAST-MODIFIED:20260121T015609Z
UID:3425-1793903400-1793908800@scoutingheartotexas.org
SUMMARY:District Committee Meeting
DESCRIPTION:Monthly meet-up for the District Key 3 and the District Committee to come together and review current happenings and planning efforts. Contact District Chair\, \nCurtis Brown to ask any questions or to request needing to be on the agenda.
URL:https://scoutingheartotexas.org/event/district-committee-meeting-10/
LOCATION:Waco Scout Office\, 300 Lake Air Dr.\, Waco\, TX\, 76710
END:VEVENT
BEGIN:VEVENT
DTSTART;TZID=America/Chicago:20261112T180000
DTEND;TZID=America/Chicago:20261112T190000
DTSTAMP:20260423T031042
CREATED:20260121T013016Z
LAST-MODIFIED:20260121T013016Z
UID:3431-1794506400-1794510000@scoutingheartotexas.org
SUMMARY:District Commisser Meeting
DESCRIPTION:The District Commissioners come together every month to review how best to support all units. Contact Flip Alexander\, District Commissioner\, to ask any questions about the meeting and/or to be on the agenda.
URL:https://scoutingheartotexas.org/event/district-commisser-meeting/
END:VEVENT
BEGIN:VEVENT
DTSTART;TZID=America/Chicago:20261203T080000
DTEND;TZID=America/Chicago:20261203T170000
DTSTAMP:20260423T031042
CREATED:20260121T012723Z
LAST-MODIFIED:20260121T012723Z
UID:3427-1796284800-1796317200@scoutingheartotexas.org
SUMMARY:District Committee Meeting
DESCRIPTION:Monthly meet-up for the District Key 3 and the District Committee to come together and review current happenings and planning efforts. Contact District Chair\, \nCurtis Brown to ask any questions or to request needing to be on the agenda.
URL:https://scoutingheartotexas.org/event/district-committee-meeting-11/
LOCATION:Waco Scout Office\, 300 Lake Air Dr.\, Waco\, TX\, 76710
END:VEVENT
BEGIN:VEVENT
DTSTART;VALUE=DATE:20261210
DTEND;VALUE=DATE:20261211
DTSTAMP:20260423T031042
CREATED:20260121T012831Z
LAST-MODIFIED:20260121T012831Z
UID:3429-1796860800-1796947199@scoutingheartotexas.org
SUMMARY:Annual District Business Meeting\, TBS
DESCRIPTION:
URL:https://scoutingheartotexas.org/event/annual-district-business-meeting-tbs/
END:VEVENT
END:VCALENDAR