BEGIN:VCALENDAR
VERSION:2.0
PRODID:-//scoutingheartotexas.org - ECPv6.15.14//NONSGML v1.0//EN
CALSCALE:GREGORIAN
METHOD:PUBLISH
X-WR-CALNAME:scoutingheartotexas.org
X-ORIGINAL-URL:https://scoutingheartotexas.org
X-WR-CALDESC:Events for scoutingheartotexas.org
REFRESH-INTERVAL;VALUE=DURATION:PT1H
X-Robots-Tag:noindex
X-PUBLISHED-TTL:PT1H
BEGIN:VTIMEZONE
TZID:America/Chicago
BEGIN:DAYLIGHT
TZOFFSETFROM:-0600
TZOFFSETTO:-0500
TZNAME:CDT
DTSTART:20240310T080000
END:DAYLIGHT
BEGIN:STANDARD
TZOFFSETFROM:-0500
TZOFFSETTO:-0600
TZNAME:CST
DTSTART:20241103T070000
END:STANDARD
BEGIN:DAYLIGHT
TZOFFSETFROM:-0600
TZOFFSETTO:-0500
TZNAME:CDT
DTSTART:20250309T080000
END:DAYLIGHT
BEGIN:STANDARD
TZOFFSETFROM:-0500
TZOFFSETTO:-0600
TZNAME:CST
DTSTART:20251102T070000
END:STANDARD
BEGIN:DAYLIGHT
TZOFFSETFROM:-0600
TZOFFSETTO:-0500
TZNAME:CDT
DTSTART:20260308T080000
END:DAYLIGHT
BEGIN:STANDARD
TZOFFSETFROM:-0500
TZOFFSETTO:-0600
TZNAME:CST
DTSTART:20261101T070000
END:STANDARD
END:VTIMEZONE
BEGIN:VEVENT
DTSTART;TZID=America/Chicago:20250821T183000
DTEND;TZID=America/Chicago:20250821T193000
DTSTAMP:20260423T141025
CREATED:20250809T211059Z
LAST-MODIFIED:20250809T211616Z
UID:3244-1755801000-1755804600@scoutingheartotexas.org
SUMMARY:Fall Recruitment and Popcorn Training
DESCRIPTION:Join us at the Waco Scout Office for a quick Training meeting where we distribute resources for and talk about Fall Recruitment efforts and how to sell Popcorn in your units! Leaders in Cubs and Scouts BSA as well as youth leaders are more than welcome to attend!
URL:https://scoutingheartotexas.org/event/fall-recruitment-and-popcorn-training/
LOCATION:Waco Scout Office\, 300 Lake Air Dr.\, Waco\, TX\, 76710
CATEGORIES:Cub Scouts,Scouts BSA,Training
END:VEVENT
BEGIN:VEVENT
DTSTART;TZID=America/Chicago:20250816T090000
DTEND;TZID=America/Chicago:20250816T163000
DTSTAMP:20260423T141025
CREATED:20250809T194051Z
LAST-MODIFIED:20250809T203908Z
UID:3162-1755334800-1755361800@scoutingheartotexas.org
SUMMARY:Camp Tahuaya Community Service Day
DESCRIPTION:REGISTER HERE! \nCamp Tahuaya Community Service Day\nLet’s Tidy Up the Trails & Tame the Wilderness—Together! \nCamp Tahuaya is up and running\, but we’ve got a few projects that could use your elbow grease! From pulling weeds to clearing trails and organizing the warehouse\, there’s something for everyone—and it’ll be more fun with you there. \nReady to jump in and make things happen? \nAll skills and trades are welcome—whether you’re a toolbelt pro or just love being outdoors\, we’ve got a job for you. \nSchedule: \n9:00 AM – Check-in with coffee\, refreshments & project assignments\n12:00–1:00 PM – Lunch (on us\, if you register!)\n4:30 PM – Project wrap-up and high-fives all around \nStay as long as you like—an hour\, an afternoon\, or the whole day. Every bit helps! \nThinking about camping overnight? Contact Becca Kowalski at becca@camptahuaya.org to make arrangements. \n Please note: Camp Tahuaya will be an active work site during this event.
URL:https://scoutingheartotexas.org/event/camp-tahuaya-community-service-day/
LOCATION:Camp Tahuaya\, 2603 Tahuaya Dr\, Belton\, TX\, 76513
CATEGORIES:Scouts BSA,Service Project
END:VEVENT
BEGIN:VEVENT
DTSTART;TZID=America/Chicago:20250814T190000
DTEND;TZID=America/Chicago:20250814T200000
DTSTAMP:20260423T141025
CREATED:20250809T193103Z
LAST-MODIFIED:20250809T193103Z
UID:3152-1755198000-1755201600@scoutingheartotexas.org
SUMMARY:Roundtable Meeting
DESCRIPTION:Join us on the 2nd Thursday of each month (except June and July) for our monthly Leaders Roundtable. This is a space to share information and support for leaders\, volunteers\, committee members\, and parents with the BSA-Longhorn Council-Heart O’ Texas District. All BSA unit reps are welcome\, especially Cubmasters\, Den Leaders Committee Chairs\, Scoutmasters\, and Assistant Scoutmasters. Discussing programming\, hot topics\, activities\, and scouting needs for networking\, fun\, and fellowship.
URL:https://scoutingheartotexas.org/event/roundtable-meeting-2/
LOCATION:Waco Scout Office\, 300 Lake Air Dr.\, Waco\, TX\, 76710
CATEGORIES:Meetings
END:VEVENT
BEGIN:VEVENT
DTSTART;TZID=America/Chicago:20250814T180000
DTEND;TZID=America/Chicago:20250814T190000
DTSTAMP:20260423T141025
CREATED:20250809T192423Z
LAST-MODIFIED:20250809T192423Z
UID:3141-1755194400-1755198000@scoutingheartotexas.org
SUMMARY:Commissioners Meeting
DESCRIPTION:Unit Commissioners\, this monthly meeting is for you. We have a short meeting from 6:00 p.m. to 7:00 p.m. at the Waco Scout office\, 300 Lake Air Dr.\, Waco\, TX 76712. Unit Commissioners are a Friend of the Units they serve.  Come find out how to be the best friend and resource possible and find out what’s going on in the District that you can pass on to your units.
URL:https://scoutingheartotexas.org/event/commissioners-meeting/
LOCATION:Waco Scout Office\, 300 Lake Air Dr.\, Waco\, TX\, 76710
CATEGORIES:Meetings
END:VEVENT
BEGIN:VEVENT
DTSTART;TZID=America/Chicago:20250814T180000
DTEND;TZID=America/Chicago:20250814T190000
DTSTAMP:20260423T141025
CREATED:20250809T191915Z
LAST-MODIFIED:20250809T192958Z
UID:3140-1755194400-1755198000@scoutingheartotexas.org
SUMMARY:District Committee Meeting
DESCRIPTION:Hosted by: HOT
URL:https://scoutingheartotexas.org/event/district-committee-meeting/
LOCATION:Waco Scout Office\, 300 Lake Air Dr.\, Waco\, TX\, 76710
CATEGORIES:Meetings
END:VEVENT
END:VCALENDAR